BEGIN:VCALENDAR
VERSION:2.0
PRODID:-//AGL Primo Corporation - ECPv5.2.0//NONSGML v1.0//EN
CALSCALE:GREGORIAN
METHOD:PUBLISH
X-WR-CALNAME:AGL Primo Corporation
X-ORIGINAL-URL:https://aglprimo.com
X-WR-CALDESC:Events for AGL Primo Corporation
BEGIN:VTIMEZONE
TZID:UTC
BEGIN:STANDARD
TZOFFSETFROM:+0000
TZOFFSETTO:+0000
TZNAME:UTC
DTSTART:20210101T000000
END:STANDARD
END:VTIMEZONE
BEGIN:VEVENT
DTSTART;TZID=UTC:20210616T080000
DTEND;TZID=UTC:20210617T170000
DTSTAMP:20260420T125817
CREATED:20210621T100916Z
LAST-MODIFIED:20210621T101242Z
UID:2471-1623830400-1623949200@aglprimo.com
SUMMARY:Juicy Homes Vlog Feature - Kota Keluarga
DESCRIPTION:
URL:https://aglprimo.com/event/juicy-homes-vlog-feature/
END:VEVENT
END:VCALENDAR